BEGIN:VCALENDAR
VERSION:2.0
PRODID:-//Mendocino Music Festival - ECPv6.15.20//NONSGML v1.0//EN
CALSCALE:GREGORIAN
METHOD:PUBLISH
X-ORIGINAL-URL:https://mendocinomusic.org
X-WR-CALDESC:Events for Mendocino Music Festival
REFRESH-INTERVAL;VALUE=DURATION:PT1H
X-Robots-Tag:noindex
X-PUBLISHED-TTL:PT1H
BEGIN:VTIMEZONE
TZID:America/Los_Angeles
BEGIN:DAYLIGHT
TZOFFSETFROM:-0800
TZOFFSETTO:-0700
TZNAME:PDT
DTSTART:20240310T100000
END:DAYLIGHT
BEGIN:STANDARD
TZOFFSETFROM:-0700
TZOFFSETTO:-0800
TZNAME:PST
DTSTART:20241103T090000
END:STANDARD
BEGIN:DAYLIGHT
TZOFFSETFROM:-0800
TZOFFSETTO:-0700
TZNAME:PDT
DTSTART:20250309T100000
END:DAYLIGHT
BEGIN:STANDARD
TZOFFSETFROM:-0700
TZOFFSETTO:-0800
TZNAME:PST
DTSTART:20251102T090000
END:STANDARD
BEGIN:DAYLIGHT
TZOFFSETFROM:-0800
TZOFFSETTO:-0700
TZNAME:PDT
DTSTART:20260308T100000
END:DAYLIGHT
BEGIN:STANDARD
TZOFFSETFROM:-0700
TZOFFSETTO:-0800
TZNAME:PST
DTSTART:20261101T090000
END:STANDARD
END:VTIMEZONE
BEGIN:VEVENT
DTSTART;TZID=America/Los_Angeles:20251206T150000
DTEND;TZID=America/Los_Angeles:20251206T150000
DTSTAMP:20260424T101846
CREATED:20250930T215009Z
LAST-MODIFIED:20251115T235738Z
UID:10007817-1765033200-1765033200@mendocinomusic.org
SUMMARY:Festival Chorale: Christmastime is Here
DESCRIPTION:Treat yourself to a swirl of sparkle and song as the 26-voice Festival Chorale fills the air with festive cheer in two concerts\, December 6 & 7\, 3:00 pm\, at the Mendocino Presbyterian Church\, under the direction of Matthew Evans. From timeless carols to unexpected delights\, every note is wrapped in warmth and joy\, like the perfect gift you didn’t know you needed. Close your eyes and you’ll hear snow falling\, sleigh bells chiming\, and laughter by the fire—all conjured by voices that shimmer and soar. Whether you’re a carol connoisseur or just love the magic of live music\, this program promises a heart-tugging\, spirit-lifting celebration you’ll carry home long after the final chord. \nA reception next door with cookies and holiday cheer follows both concerts. \nChristmastime is Here – Vince Guaraldi\, arranged by John Alexander\nSomerset Carol – traditional\nThis Endris Night – traditional\nSee Amid the Winter’s Snow – arranged by David Willcocks\nWintertide – Ola Gjielo\nThe Holly and the Ivy – arranged by Matthew Culloton\nNo. 4\, And the Glory of the Lord\, from The Messiah – G.F. Handel\nA Spotless Rose – Herbert Howells\nTyrley Tyrlow – Peter Warlock\nMake We Joy – William Walton\nWhat Child is This – arranged by Dan Ponce\nI Saw Three Ships – arranged by David Willcocks\nThe Twelve Days of Christmas – arranged by John Rutter\nSleigh Ride – arranged by Andy Beck\nHave Yourself a Merry Little Christmas – arranged by Jay Althouse \n\nFestival Chorale members are: \n\nSoprano: Claire Armstrong\, Barbara Barkovich\, Safari Dushime\, Cynthia Frank\, Rachel Lahn\, Katharine O’Shea\, Linda Perry\, Kathleen Rzeplinski\, Raquel Taylor\, Laura Vague\nAlto: Cathy Boxell\, Jo Britton\, Ann Early\, Deborah Farmar\, Evelyn Harris\, Cathy Jordan\, Bessy Krauss\nTenor: Kom Dixon\, Pamela Hudson\, John Miller\, Ernest Witt\nBass: James Blanton\, Alexander Brittain\, Paul Friesen\, Jason Kirkman\, Randy Knutson\n\nMatthew Evans\, Chorale Director; Robin Knutson\, Accompanist\n\nSaturday\, December 6\, 2025 and Sunday\, December 7\, 2025\, at 3:00 PM.\n\nBUY TICKETS\n\n	\n		\n \nThe Mendocino Music Festival Chorale was formed in 2018 as an offshoot of the much larger Festival Chorus\, whose members were invited to audition. The work has been ongoing\, even throughout the pandemic\, creating heart-warming and memorable concerts. If you’d like to support this excellent singing\, please consider joining the Friends of the Chorale. \nFestival Artistic Director Allan Pollack: “I’ve been touched by the dedication of the members of the Festival Chorus\, and so have wanted to create an opportunity for people who are ready to take their choral singing to the next level.” \nJoin Friends of the Chorale
URL:https://mendocinomusic.org/event/festival-chorale-christmastime-is-here/2025-12-06/
LOCATION:Mendocino Presbyterian Church Sanctuary\, 44831 Main Street\, Mendocino\, CA\, 95460\, United States
CATEGORIES:Classical,Performance
ATTACH;FMTTYPE=image/jpeg:https://mendocinomusic.org/wp-content/uploads/10-1600web.jpg
ORGANIZER;CN="Mendocino Music Festival":MAILTO:info@mendocinomusic.org
GEO:39.30529;-123.7972762
X-APPLE-STRUCTURED-LOCATION;VALUE=URI;X-ADDRESS=Mendocino Presbyterian Church Sanctuary 44831 Main Street Mendocino CA 95460 United States;X-APPLE-RADIUS=500;X-TITLE=44831 Main Street:geo:-123.7972762,39.30529
END:VEVENT
BEGIN:VEVENT
DTSTART;TZID=America/Los_Angeles:20251207T150000
DTEND;TZID=America/Los_Angeles:20251207T150000
DTSTAMP:20260424T101846
CREATED:20250930T215009Z
LAST-MODIFIED:20251115T235738Z
UID:10007818-1765119600-1765119600@mendocinomusic.org
SUMMARY:Festival Chorale: Christmastime is Here
DESCRIPTION:Treat yourself to a swirl of sparkle and song as the 26-voice Festival Chorale fills the air with festive cheer in two concerts\, December 6 & 7\, 3:00 pm\, at the Mendocino Presbyterian Church\, under the direction of Matthew Evans. From timeless carols to unexpected delights\, every note is wrapped in warmth and joy\, like the perfect gift you didn’t know you needed. Close your eyes and you’ll hear snow falling\, sleigh bells chiming\, and laughter by the fire—all conjured by voices that shimmer and soar. Whether you’re a carol connoisseur or just love the magic of live music\, this program promises a heart-tugging\, spirit-lifting celebration you’ll carry home long after the final chord. \nA reception next door with cookies and holiday cheer follows both concerts. \nChristmastime is Here – Vince Guaraldi\, arranged by John Alexander\nSomerset Carol – traditional\nThis Endris Night – traditional\nSee Amid the Winter’s Snow – arranged by David Willcocks\nWintertide – Ola Gjielo\nThe Holly and the Ivy – arranged by Matthew Culloton\nNo. 4\, And the Glory of the Lord\, from The Messiah – G.F. Handel\nA Spotless Rose – Herbert Howells\nTyrley Tyrlow – Peter Warlock\nMake We Joy – William Walton\nWhat Child is This – arranged by Dan Ponce\nI Saw Three Ships – arranged by David Willcocks\nThe Twelve Days of Christmas – arranged by John Rutter\nSleigh Ride – arranged by Andy Beck\nHave Yourself a Merry Little Christmas – arranged by Jay Althouse \n\nFestival Chorale members are: \n\nSoprano: Claire Armstrong\, Barbara Barkovich\, Safari Dushime\, Cynthia Frank\, Rachel Lahn\, Katharine O’Shea\, Linda Perry\, Kathleen Rzeplinski\, Raquel Taylor\, Laura Vague\nAlto: Cathy Boxell\, Jo Britton\, Ann Early\, Deborah Farmar\, Evelyn Harris\, Cathy Jordan\, Bessy Krauss\nTenor: Kom Dixon\, Pamela Hudson\, John Miller\, Ernest Witt\nBass: James Blanton\, Alexander Brittain\, Paul Friesen\, Jason Kirkman\, Randy Knutson\n\nMatthew Evans\, Chorale Director; Robin Knutson\, Accompanist\n\nSaturday\, December 6\, 2025 and Sunday\, December 7\, 2025\, at 3:00 PM.\n\nBUY TICKETS\n\n	\n		\n \nThe Mendocino Music Festival Chorale was formed in 2018 as an offshoot of the much larger Festival Chorus\, whose members were invited to audition. The work has been ongoing\, even throughout the pandemic\, creating heart-warming and memorable concerts. If you’d like to support this excellent singing\, please consider joining the Friends of the Chorale. \nFestival Artistic Director Allan Pollack: “I’ve been touched by the dedication of the members of the Festival Chorus\, and so have wanted to create an opportunity for people who are ready to take their choral singing to the next level.” \nJoin Friends of the Chorale
URL:https://mendocinomusic.org/event/festival-chorale-christmastime-is-here/2025-12-07/
LOCATION:Mendocino Presbyterian Church Sanctuary\, 44831 Main Street\, Mendocino\, CA\, 95460\, United States
CATEGORIES:Classical,Performance
ATTACH;FMTTYPE=image/jpeg:https://mendocinomusic.org/wp-content/uploads/10-1600web.jpg
ORGANIZER;CN="Mendocino Music Festival":MAILTO:info@mendocinomusic.org
GEO:39.30529;-123.7972762
X-APPLE-STRUCTURED-LOCATION;VALUE=URI;X-ADDRESS=Mendocino Presbyterian Church Sanctuary 44831 Main Street Mendocino CA 95460 United States;X-APPLE-RADIUS=500;X-TITLE=44831 Main Street:geo:-123.7972762,39.30529
END:VEVENT
END:VCALENDAR