BEGIN:VCALENDAR
VERSION:2.0
PRODID:-//Mendocino Music Festival - ECPv6.15.20//NONSGML v1.0//EN
CALSCALE:GREGORIAN
METHOD:PUBLISH
X-WR-CALNAME:Mendocino Music Festival
X-ORIGINAL-URL:https://mendocinomusic.org
X-WR-CALDESC:Events for Mendocino Music Festival
REFRESH-INTERVAL;VALUE=DURATION:PT1H
X-Robots-Tag:noindex
X-PUBLISHED-TTL:PT1H
BEGIN:VTIMEZONE
TZID:America/Los_Angeles
BEGIN:DAYLIGHT
TZOFFSETFROM:-0800
TZOFFSETTO:-0700
TZNAME:PDT
DTSTART:20210314T100000
END:DAYLIGHT
BEGIN:STANDARD
TZOFFSETFROM:-0700
TZOFFSETTO:-0800
TZNAME:PST
DTSTART:20211107T090000
END:STANDARD
BEGIN:DAYLIGHT
TZOFFSETFROM:-0800
TZOFFSETTO:-0700
TZNAME:PDT
DTSTART:20220313T100000
END:DAYLIGHT
BEGIN:STANDARD
TZOFFSETFROM:-0700
TZOFFSETTO:-0800
TZNAME:PST
DTSTART:20221106T090000
END:STANDARD
BEGIN:DAYLIGHT
TZOFFSETFROM:-0800
TZOFFSETTO:-0700
TZNAME:PDT
DTSTART:20230312T100000
END:DAYLIGHT
BEGIN:STANDARD
TZOFFSETFROM:-0700
TZOFFSETTO:-0800
TZNAME:PST
DTSTART:20231105T090000
END:STANDARD
END:VTIMEZONE
BEGIN:VEVENT
DTSTART;TZID=America/Los_Angeles:20220311T160000
DTEND;TZID=America/Los_Angeles:20220311T180000
DTSTAMP:20260424T083555
CREATED:20220224T002040Z
LAST-MODIFIED:20220224T222659Z
UID:10002669-1647014400-1647021600@mendocinomusic.org
SUMMARY:Understanding Schubert\, with Susan Waterfall
DESCRIPTION:Join us for the virtual world premier of Susan Waterfall’s Understanding Schubert—an 85-minute video biography\, with art and portraits from Schubert’s era as well as 16 recorded musical excerpts\, including nine lieder—wherein Waterfall explores the cultural context of Schubert’s life and music\, his relationship with Romantic lyric poetry\, and his position in the middle-class homes and salons of Vienna. \nSchubert’s art emphasized individual subjectivity\, which was the thrust of Romanticism. With enormous musical and communicative gifts\, he offered his vision of the world. \nIn 1987 Maynard Solomon presented a compelling paper asserting that Schubert was homosexual and died of tertiary syphilis. Solomon claimed that Schubert had written most of his music for a Viennese subculture that was exploring different types of masculinity and reacting to restrictive codes of social behavior. Susan Waterfall avoids extreme characterizations of Schubert as a sexless “tubby tunesmith” and Schubert as a standard bearer for gay musicology.  He becomes a convincing person\, with his sexual preferences and activities only part of the troubling circumstances he encountered in modern Viennese life. \nArt and photograph collection by Mina Cohen\nFilmed and edited by Julian Pollack\nWritten and directed by Susan Waterfall \nQ&A with Susan Waterfall\, Julian Pollack and Mina Cohen will follow the screening. \nThis is a virtual event.\nSECURE YOUR TICKET
URL:https://mendocinomusic.org/event/understanding-schubert-2022/
LOCATION:Zoom\, Cyberspace
CATEGORIES:Education,Performance
ATTACH;FMTTYPE=image/jpeg:https://mendocinomusic.org/wp-content/uploads/2022/02/Schubert-1-big-769ac34a4012ab69c069de0bab7d9e81-1572964900-sq-crop700web.jpg
ORGANIZER;CN="Mendocino Music Festival":MAILTO:info@mendocinomusic.org
END:VEVENT
BEGIN:VEVENT
DTSTART;TZID=America/Los_Angeles:20220321T160000
DTEND;TZID=America/Los_Angeles:20220321T170000
DTSTAMP:20260424T083555
CREATED:20211230T021656Z
LAST-MODIFIED:20220512T194445Z
UID:10002369-1647878400-1647882000@mendocinomusic.org
SUMMARY:Adventures in Art Song (8 times\, 3/21-5/16)
DESCRIPTION:Due to the popularity of the German lieder and French mélodie classes\, we have decided to expand the class to art songs of many languages. Singing beautiful songs in German\, French\, Italian\, Spanish\, and English (British and American)\, we’ll delve into the poetry and the composers\, addressing diction\, style and presentation\, and collaboration between voice and piano. \nLimit 15 participants; may also be audited. Auditors enjoy watching the process without the pressure\, learn what it takes to put together a song\, and observe each participant progress and improve. \n\nInstructors: Jenny Matteucci and Daniel Lockert.\nMondays\, 4:00 PM–5:00 PM Pacific (except April 18; May 16 session is at 12:00 PM Pacific)\nOn Zoom and in person\, except 3/28\, 4/11\, 4/25\, 5/9 and 5/16 Zoom only. Ends with Monday\, May 16\, 12:00 PM joint session with Masterclass. The 5/16 joint session is moved to Zoom.\nMask and proof of complete vaccination (including applicable boosters) required for in-person attendance.\nRegistration opens 5:00 PM PDT Wednesday\, March 9\, 2022.\n\nREGISTER FOR 8-WEEK COURSE\n\n	\n		\nIn 2017 Jenny Matteucci\, who has an extensive background as a performer\, choral director\, and voice teacher\, became the Festival Chorus Master; joined by her husband\, Daniel Lockert\, a marvelous accompanist and an outstanding language coach. The artistic leadership of this dynamic duo is a wonderful addition to the Festival\, and has made possible an ongoing series of courses in various aspects of singing.
URL:https://mendocinomusic.org/event/adventures-in-art-song/2022-03-21/
LOCATION:Fort Bragg Presbyterian Church Social Hall\, 367 S Sanderson Way\, Fort Bragg\, CA\, 95437\, United States
CATEGORIES:Course,Education
ATTACH;FMTTYPE=image/jpeg:https://mendocinomusic.org/wp-content/uploads/2021/12/Daniel-and-Jenny-candid-crop496sqweb.jpg
ORGANIZER;CN="Mendocino Music Festival":MAILTO:info@mendocinomusic.org
GEO:39.4376614;-123.7918799
X-APPLE-STRUCTURED-LOCATION;VALUE=URI;X-ADDRESS=Fort Bragg Presbyterian Church Social Hall 367 S Sanderson Way Fort Bragg CA 95437 United States;X-APPLE-RADIUS=500;X-TITLE=367 S Sanderson Way:geo:-123.7918799,39.4376614
END:VEVENT
BEGIN:VEVENT
DTSTART;TZID=America/Los_Angeles:20220328T160000
DTEND;TZID=America/Los_Angeles:20220328T170000
DTSTAMP:20260424T083555
CREATED:20211230T021656Z
LAST-MODIFIED:20220512T194445Z
UID:10002370-1648483200-1648486800@mendocinomusic.org
SUMMARY:Adventures in Art Song (8 times\, 3/21-5/16)
DESCRIPTION:Due to the popularity of the German lieder and French mélodie classes\, we have decided to expand the class to art songs of many languages. Singing beautiful songs in German\, French\, Italian\, Spanish\, and English (British and American)\, we’ll delve into the poetry and the composers\, addressing diction\, style and presentation\, and collaboration between voice and piano. \nLimit 15 participants; may also be audited. Auditors enjoy watching the process without the pressure\, learn what it takes to put together a song\, and observe each participant progress and improve. \n\nInstructors: Jenny Matteucci and Daniel Lockert.\nMondays\, 4:00 PM–5:00 PM Pacific (except April 18; May 16 session is at 12:00 PM Pacific)\nOn Zoom and in person\, except 3/28\, 4/11\, 4/25\, 5/9 and 5/16 Zoom only. Ends with Monday\, May 16\, 12:00 PM joint session with Masterclass. The 5/16 joint session is moved to Zoom.\nMask and proof of complete vaccination (including applicable boosters) required for in-person attendance.\nRegistration opens 5:00 PM PDT Wednesday\, March 9\, 2022.\n\nREGISTER FOR 8-WEEK COURSE\n\n	\n		\nIn 2017 Jenny Matteucci\, who has an extensive background as a performer\, choral director\, and voice teacher\, became the Festival Chorus Master; joined by her husband\, Daniel Lockert\, a marvelous accompanist and an outstanding language coach. The artistic leadership of this dynamic duo is a wonderful addition to the Festival\, and has made possible an ongoing series of courses in various aspects of singing.
URL:https://mendocinomusic.org/event/adventures-in-art-song/2022-03-28/
LOCATION:Fort Bragg Presbyterian Church Social Hall\, 367 S Sanderson Way\, Fort Bragg\, CA\, 95437\, United States
CATEGORIES:Course,Education
ATTACH;FMTTYPE=image/jpeg:https://mendocinomusic.org/wp-content/uploads/2021/12/Daniel-and-Jenny-candid-crop496sqweb.jpg
ORGANIZER;CN="Mendocino Music Festival":MAILTO:info@mendocinomusic.org
GEO:39.4376614;-123.7918799
X-APPLE-STRUCTURED-LOCATION;VALUE=URI;X-ADDRESS=Fort Bragg Presbyterian Church Social Hall 367 S Sanderson Way Fort Bragg CA 95437 United States;X-APPLE-RADIUS=500;X-TITLE=367 S Sanderson Way:geo:-123.7918799,39.4376614
END:VEVENT
END:VCALENDAR