BEGIN:VCALENDAR
VERSION:2.0
PRODID:-//Mendocino Music Festival - ECPv6.15.20//NONSGML v1.0//EN
CALSCALE:GREGORIAN
METHOD:PUBLISH
X-ORIGINAL-URL:https://mendocinomusic.org
X-WR-CALDESC:Events for Mendocino Music Festival
REFRESH-INTERVAL;VALUE=DURATION:PT1H
X-Robots-Tag:noindex
X-PUBLISHED-TTL:PT1H
BEGIN:VTIMEZONE
TZID:America/Los_Angeles
BEGIN:DAYLIGHT
TZOFFSETFROM:-0800
TZOFFSETTO:-0700
TZNAME:PDT
DTSTART:20210314T100000
END:DAYLIGHT
BEGIN:STANDARD
TZOFFSETFROM:-0700
TZOFFSETTO:-0800
TZNAME:PST
DTSTART:20211107T090000
END:STANDARD
BEGIN:DAYLIGHT
TZOFFSETFROM:-0800
TZOFFSETTO:-0700
TZNAME:PDT
DTSTART:20220313T100000
END:DAYLIGHT
BEGIN:STANDARD
TZOFFSETFROM:-0700
TZOFFSETTO:-0800
TZNAME:PST
DTSTART:20221106T090000
END:STANDARD
BEGIN:DAYLIGHT
TZOFFSETFROM:-0800
TZOFFSETTO:-0700
TZNAME:PDT
DTSTART:20230312T100000
END:DAYLIGHT
BEGIN:STANDARD
TZOFFSETFROM:-0700
TZOFFSETTO:-0800
TZNAME:PST
DTSTART:20231105T090000
END:STANDARD
END:VTIMEZONE
BEGIN:VEVENT
DTSTART;TZID=America/Los_Angeles:20220502T160000
DTEND;TZID=America/Los_Angeles:20220502T170000
DTSTAMP:20260424T055435
CREATED:20211230T021656Z
LAST-MODIFIED:20220512T194445Z
UID:10002374-1651507200-1651510800@mendocinomusic.org
SUMMARY:Adventures in Art Song (8 times\, 3/21-5/16)
DESCRIPTION:Due to the popularity of the German lieder and French mélodie classes\, we have decided to expand the class to art songs of many languages. Singing beautiful songs in German\, French\, Italian\, Spanish\, and English (British and American)\, we’ll delve into the poetry and the composers\, addressing diction\, style and presentation\, and collaboration between voice and piano. \nLimit 15 participants; may also be audited. Auditors enjoy watching the process without the pressure\, learn what it takes to put together a song\, and observe each participant progress and improve. \n\nInstructors: Jenny Matteucci and Daniel Lockert.\nMondays\, 4:00 PM–5:00 PM Pacific (except April 18; May 16 session is at 12:00 PM Pacific)\nOn Zoom and in person\, except 3/28\, 4/11\, 4/25\, 5/9 and 5/16 Zoom only. Ends with Monday\, May 16\, 12:00 PM joint session with Masterclass. The 5/16 joint session is moved to Zoom.\nMask and proof of complete vaccination (including applicable boosters) required for in-person attendance.\nRegistration opens 5:00 PM PDT Wednesday\, March 9\, 2022.\n\nREGISTER FOR 8-WEEK COURSE\n\n	\n		\nIn 2017 Jenny Matteucci\, who has an extensive background as a performer\, choral director\, and voice teacher\, became the Festival Chorus Master; joined by her husband\, Daniel Lockert\, a marvelous accompanist and an outstanding language coach. The artistic leadership of this dynamic duo is a wonderful addition to the Festival\, and has made possible an ongoing series of courses in various aspects of singing.
URL:https://mendocinomusic.org/event/adventures-in-art-song/2022-05-02/
LOCATION:Fort Bragg Presbyterian Church Social Hall\, 367 S Sanderson Way\, Fort Bragg\, CA\, 95437\, United States
CATEGORIES:Course,Education
ATTACH;FMTTYPE=image/jpeg:https://mendocinomusic.org/wp-content/uploads/2021/12/Daniel-and-Jenny-candid-crop496sqweb.jpg
ORGANIZER;CN="Mendocino Music Festival":MAILTO:info@mendocinomusic.org
GEO:39.4376614;-123.7918799
X-APPLE-STRUCTURED-LOCATION;VALUE=URI;X-ADDRESS=Fort Bragg Presbyterian Church Social Hall 367 S Sanderson Way Fort Bragg CA 95437 United States;X-APPLE-RADIUS=500;X-TITLE=367 S Sanderson Way:geo:-123.7918799,39.4376614
END:VEVENT
BEGIN:VEVENT
DTSTART;TZID=America/Los_Angeles:20220509T160000
DTEND;TZID=America/Los_Angeles:20220509T170000
DTSTAMP:20260424T055435
CREATED:20211230T021656Z
LAST-MODIFIED:20220512T194445Z
UID:10002375-1652112000-1652115600@mendocinomusic.org
SUMMARY:Adventures in Art Song (8 times\, 3/21-5/16)
DESCRIPTION:Due to the popularity of the German lieder and French mélodie classes\, we have decided to expand the class to art songs of many languages. Singing beautiful songs in German\, French\, Italian\, Spanish\, and English (British and American)\, we’ll delve into the poetry and the composers\, addressing diction\, style and presentation\, and collaboration between voice and piano. \nLimit 15 participants; may also be audited. Auditors enjoy watching the process without the pressure\, learn what it takes to put together a song\, and observe each participant progress and improve. \n\nInstructors: Jenny Matteucci and Daniel Lockert.\nMondays\, 4:00 PM–5:00 PM Pacific (except April 18; May 16 session is at 12:00 PM Pacific)\nOn Zoom and in person\, except 3/28\, 4/11\, 4/25\, 5/9 and 5/16 Zoom only. Ends with Monday\, May 16\, 12:00 PM joint session with Masterclass. The 5/16 joint session is moved to Zoom.\nMask and proof of complete vaccination (including applicable boosters) required for in-person attendance.\nRegistration opens 5:00 PM PDT Wednesday\, March 9\, 2022.\n\nREGISTER FOR 8-WEEK COURSE\n\n	\n		\nIn 2017 Jenny Matteucci\, who has an extensive background as a performer\, choral director\, and voice teacher\, became the Festival Chorus Master; joined by her husband\, Daniel Lockert\, a marvelous accompanist and an outstanding language coach. The artistic leadership of this dynamic duo is a wonderful addition to the Festival\, and has made possible an ongoing series of courses in various aspects of singing.
URL:https://mendocinomusic.org/event/adventures-in-art-song/2022-05-09/
LOCATION:Fort Bragg Presbyterian Church Social Hall\, 367 S Sanderson Way\, Fort Bragg\, CA\, 95437\, United States
CATEGORIES:Course,Education
ATTACH;FMTTYPE=image/jpeg:https://mendocinomusic.org/wp-content/uploads/2021/12/Daniel-and-Jenny-candid-crop496sqweb.jpg
ORGANIZER;CN="Mendocino Music Festival":MAILTO:info@mendocinomusic.org
GEO:39.4376614;-123.7918799
X-APPLE-STRUCTURED-LOCATION;VALUE=URI;X-ADDRESS=Fort Bragg Presbyterian Church Social Hall 367 S Sanderson Way Fort Bragg CA 95437 United States;X-APPLE-RADIUS=500;X-TITLE=367 S Sanderson Way:geo:-123.7918799,39.4376614
END:VEVENT
BEGIN:VEVENT
DTSTART;TZID=America/Los_Angeles:20220516T120000
DTEND;TZID=America/Los_Angeles:20220516T133000
DTSTAMP:20260424T055435
CREATED:20211230T021656Z
LAST-MODIFIED:20220512T194445Z
UID:10002376-1652702400-1652707800@mendocinomusic.org
SUMMARY:Adventures in Art Song (8 times\, 3/21-5/16)
DESCRIPTION:Due to the popularity of the German lieder and French mélodie classes\, we have decided to expand the class to art songs of many languages. Singing beautiful songs in German\, French\, Italian\, Spanish\, and English (British and American)\, we’ll delve into the poetry and the composers\, addressing diction\, style and presentation\, and collaboration between voice and piano. \nLimit 15 participants; may also be audited. Auditors enjoy watching the process without the pressure\, learn what it takes to put together a song\, and observe each participant progress and improve. \n\nInstructors: Jenny Matteucci and Daniel Lockert.\nMondays\, 4:00 PM–5:00 PM Pacific (except April 18; May 16 session is at 12:00 PM Pacific)\nOn Zoom and in person\, except 3/28\, 4/11\, 4/25\, 5/9 and 5/16 Zoom only. Ends with Monday\, May 16\, 12:00 PM joint session with Masterclass. The 5/16 joint session is moved to Zoom.\nMask and proof of complete vaccination (including applicable boosters) required for in-person attendance.\nRegistration opens 5:00 PM PDT Wednesday\, March 9\, 2022.\n\nREGISTER FOR 8-WEEK COURSE\n\n	\n		\nIn 2017 Jenny Matteucci\, who has an extensive background as a performer\, choral director\, and voice teacher\, became the Festival Chorus Master; joined by her husband\, Daniel Lockert\, a marvelous accompanist and an outstanding language coach. The artistic leadership of this dynamic duo is a wonderful addition to the Festival\, and has made possible an ongoing series of courses in various aspects of singing.
URL:https://mendocinomusic.org/event/adventures-in-art-song/2022-05-16/
LOCATION:Fort Bragg Presbyterian Church Social Hall\, 367 S Sanderson Way\, Fort Bragg\, CA\, 95437\, United States
CATEGORIES:Course,Education
ATTACH;FMTTYPE=image/jpeg:https://mendocinomusic.org/wp-content/uploads/2021/12/Daniel-and-Jenny-candid-crop496sqweb.jpg
ORGANIZER;CN="Mendocino Music Festival":MAILTO:info@mendocinomusic.org
GEO:39.4376614;-123.7918799
X-APPLE-STRUCTURED-LOCATION;VALUE=URI;X-ADDRESS=Fort Bragg Presbyterian Church Social Hall 367 S Sanderson Way Fort Bragg CA 95437 United States;X-APPLE-RADIUS=500;X-TITLE=367 S Sanderson Way:geo:-123.7918799,39.4376614
END:VEVENT
END:VCALENDAR