BEGIN:VCALENDAR
VERSION:2.0
PRODID:-//Mendocino Music Festival - ECPv6.15.20//NONSGML v1.0//EN
CALSCALE:GREGORIAN
METHOD:PUBLISH
X-ORIGINAL-URL:https://mendocinomusic.org
X-WR-CALDESC:Events for Mendocino Music Festival
REFRESH-INTERVAL;VALUE=DURATION:PT1H
X-Robots-Tag:noindex
X-PUBLISHED-TTL:PT1H
BEGIN:VTIMEZONE
TZID:America/Los_Angeles
BEGIN:DAYLIGHT
TZOFFSETFROM:-0800
TZOFFSETTO:-0700
TZNAME:PDT
DTSTART:20210314T100000
END:DAYLIGHT
BEGIN:STANDARD
TZOFFSETFROM:-0700
TZOFFSETTO:-0800
TZNAME:PST
DTSTART:20211107T090000
END:STANDARD
BEGIN:DAYLIGHT
TZOFFSETFROM:-0800
TZOFFSETTO:-0700
TZNAME:PDT
DTSTART:20220313T100000
END:DAYLIGHT
BEGIN:STANDARD
TZOFFSETFROM:-0700
TZOFFSETTO:-0800
TZNAME:PST
DTSTART:20221106T090000
END:STANDARD
BEGIN:DAYLIGHT
TZOFFSETFROM:-0800
TZOFFSETTO:-0700
TZNAME:PDT
DTSTART:20230312T100000
END:DAYLIGHT
BEGIN:STANDARD
TZOFFSETFROM:-0700
TZOFFSETTO:-0800
TZNAME:PST
DTSTART:20231105T090000
END:STANDARD
END:VTIMEZONE
BEGIN:VEVENT
DTSTART;TZID=America/Los_Angeles:20221008T150000
DTEND;TZID=America/Los_Angeles:20221008T150000
DTSTAMP:20260424T055436
CREATED:20220530T224146Z
LAST-MODIFIED:20221005T213847Z
UID:10002670-1665241200-1665241200@mendocinomusic.org
SUMMARY:Festival Chorale: All Creatures Great and Small (Preston Hall)
DESCRIPTION:Classical composers have always been inspired by animals. Think of orchestral works like Carnival of the Animals by St. Saens or Peter and the Wolf by Prokofiev. In the field of vocal music\, the great lieder composers found inspiration in bird flight\, the galloping of horses\, or the tranquility of the gazelle. The Italian madrigal\, El grillo\, is a popular one about the cricket. British composer John Rutter’s “All Things Bright and Beautiful” is a newer setting of a familiar hymn text by Cecil Frances Alexander\, who is also known for her Christmas carol\, “Once in Royal David’s City.” Samuel Barber’s “The Monk and his Cat” is his choral arrangement of one of his “Hermit Songs\,” originally written for solo voice (premiered by Leontyne Price with the composer at the piano.) The two selections by Aaron Copland are also arrangements for chorus of his “Old American Songs\,” Two of William Blake’s most beloved poems\, “The Lamb” and “The Tiger\,” were given choral settings by two different composers. British composer John Tavener’s “The Lamb” was first performed by the King’s College Choir\, Cambridge as a part of their Festival of Nine Lessons and Carols. It has been associated with Christmas ever since. Virgil Thomson’s “The Tiger” is a choral arrangement by the composer of a solo song for baritone and orchestra from his “Five William Blake Poems.” “Blackbird” by Lennon and McCartney is an acknowledgment of the plight of the African American\, with an ending exhortation to “Take these broken wings and learn to fly.” The two sets of “Animal Crackers” by Eric Whitacre are just that: crackers! They combine witty animal poems by Ogden Nash with clever choral writing to poke fun at “serious” classical music with delightfully silly sounds. \nIn this concert\, the Festival Chorale\, directed by Jenny Matteucci\, with pianist Daniel Lockert\, presents a menagerie of songs celebrating our four-legged and winged friends\, from hilarious to heartwarming. Festival Chorale members are: \n\nSoprano: Cynthia Frank\, Robin Knutson\, Kathy O’Shea\, Abigail Strock\, Laura Vague\nAlto: Cathy Boxell\, Jo Britton\, Deborah Farmar\, Evelyn Harris\, Kathy Warner\nTenor: Joel Ginsberg\, Jason Kirkman\, James Sibbet\, David Strock\nBass: Jim Blanton\, Matt Evans\, Paul Friesen\, Jeff Grant\, Randy Knutson\n\n\n	\n		\nThe Mendocino Music Festival Chamber Chorale\, directed by Festival Chorus Master Jenny Matteucci\, was formed in 2018 as an offshoot of the much larger Festival Chorus\, members of which were invited to audition. \nFestival Artistic Director Allan Pollack: “I’ve been touched by the dedication of the members of the Festival Chorus\, and so have wanted to create an opportunity for people who are ready to take their choral singing to the next level.” Festival Chorus Master Jenny Matteucci reports\, “It is a joy to work with a group of singers who are willing to do the hard work on vocal technique in order to make increasingly excellent and inspiring music together.” \n\n		\n	\n\n\n\n\n	\n		\nProof of completed COVID-19 vaccination\, including at least one booster\, is required\, and masks must be properly worn at all times while on event premises. Though it might exceed official requirements\, this policy is based on current conditions and the results of our most recent audience survey. \nThis concert was originally scheduled for June 19\, 2022. Tickets inscribed with that date will be honored on the new date. \n\n		\n	\n\n\nBUY TICKETS
URL:https://mendocinomusic.org/event/chorale-all-creatures/
LOCATION:Preston Hall\, 44867 Main Street\, Mendocino\, CA\, 95460\, United States
CATEGORIES:Around the World,Boogie-Blues-Bluegrass,Classical,Jazz,Performance
ATTACH;FMTTYPE=image/jpeg:https://mendocinomusic.org/wp-content/uploads/2022/05/Edward_Hicks_-_Peaceable_Kingdom1600web.jpg
ORGANIZER;CN="Mendocino Music Festival":MAILTO:info@mendocinomusic.org
GEO:39.30529;-123.7972762
X-APPLE-STRUCTURED-LOCATION;VALUE=URI;X-ADDRESS=Preston Hall 44867 Main Street Mendocino CA 95460 United States;X-APPLE-RADIUS=500;X-TITLE=44867 Main Street:geo:-123.7972762,39.30529
END:VEVENT
END:VCALENDAR