BEGIN:VCALENDAR
VERSION:2.0
PRODID:-//Mendocino Music Festival - ECPv6.15.20//NONSGML v1.0//EN
CALSCALE:GREGORIAN
METHOD:PUBLISH
X-WR-CALNAME:Mendocino Music Festival
X-ORIGINAL-URL:https://mendocinomusic.org
X-WR-CALDESC:Events for Mendocino Music Festival
REFRESH-INTERVAL;VALUE=DURATION:PT1H
X-Robots-Tag:noindex
X-PUBLISHED-TTL:PT1H
BEGIN:VTIMEZONE
TZID:America/Los_Angeles
BEGIN:DAYLIGHT
TZOFFSETFROM:-0800
TZOFFSETTO:-0700
TZNAME:PDT
DTSTART:20220313T100000
END:DAYLIGHT
BEGIN:STANDARD
TZOFFSETFROM:-0700
TZOFFSETTO:-0800
TZNAME:PST
DTSTART:20221106T090000
END:STANDARD
BEGIN:DAYLIGHT
TZOFFSETFROM:-0800
TZOFFSETTO:-0700
TZNAME:PDT
DTSTART:20230312T100000
END:DAYLIGHT
BEGIN:STANDARD
TZOFFSETFROM:-0700
TZOFFSETTO:-0800
TZNAME:PST
DTSTART:20231105T090000
END:STANDARD
BEGIN:DAYLIGHT
TZOFFSETFROM:-0800
TZOFFSETTO:-0700
TZNAME:PDT
DTSTART:20240310T100000
END:DAYLIGHT
BEGIN:STANDARD
TZOFFSETFROM:-0700
TZOFFSETTO:-0800
TZNAME:PST
DTSTART:20241103T090000
END:STANDARD
END:VTIMEZONE
BEGIN:VEVENT
DTSTART;TZID=America/Los_Angeles:20231203T150000
DTEND;TZID=America/Los_Angeles:20231203T150000
DTSTAMP:20260424T061821
CREATED:20231007T213906Z
LAST-MODIFIED:20231126T002955Z
UID:10003117-1701615600-1701615600@mendocinomusic.org
SUMMARY:The Festival Chorale: Christmas Through the Ages
DESCRIPTION:The Festival Chorale will present its first concert under the direction of Matthew Evans\, including music by Praetorious\, J.S. Bach\, and Vaughan Williams\, followed by a selection of carols\, both familiar and unusual. After the concert we’ll celebrate the season and each other next door in Preston Hall\, with hot cider and homemade Christmas cookies. \n\n	\n		O magnum mysterium – Tomás Luis de Victoria\n“Lo\, How a Rose E’er Blooming” – Michael Praetorius\nJesu bleibet meine Freude – J.S. Bach\nGloria sei dir gesungen – J.S. Bach\n“There is No Rose of Such Virtue” – John Joubert\n“This Christmastide (Jessye’s Carol)” – Donald Fraser\nFantasia on Christmas Carols – Ralph Vaughan Williams\n“The Gloucestershire Wassail” – traditional\n“Good King Wenceslas” – arranged by Reginald Jacques\nGaudete! – traditional\nRiu\, Riu\, Chiu – Mateo Flecha the Elder\n“The Boar’s Head Carol” – traditional\n“Past Three O’Clock” – traditional\n“Ding Dong Merrily on High” – arranged by Mack Wilberg\n		\n	\n\n\nMatthew Evans\, Director; Robin Knutson\, piano \nFestival Chorale members are: \n\nSoprano: Cynthia Frank\, Robin Knutson\, Katharine O’Shea\, Laura Vague\nAlto: Cathy Boxell\, Deborah Farmar\, Evelyn Harris\nTenor: Marius Constantin\, Pamela Hudson\nBass: James Blanton\, Randy Knutson\n\n\nBUY TICKETS\n\n	\n		\nThe Mendocino Music Festival Chorale was formed in 2018 as an offshoot of the much larger Festival Chorus\, whose members were invited to audition. \nFestival Artistic Director Allan Pollack: “I’ve been touched by the dedication of the members of the Festival Chorus\, and so have wanted to create an opportunity for people who are ready to take their choral singing to the next level.”  \nInvitation from Matthew Evans: “Are you a good singer looking for a group? Why not consider the Festival Chamber Chorale! We hope to double our numbers for the Spring 2024 season. Auditions will take place in early 2024. Do not worry; it is a simple process you will actually enjoy! And no memorization required for this group.” Contact *protected email*. \n\n		\n	\n\n\n\n\n	\n		\nWe’re pleased to introduce Matthew Evans as the new *Director of the Mendocino Music Festival Chorale! (*Jenny Matteucci continues as Chorus Director.) A resident of Mendocino since 2020\, Matthew holds BA and MA degrees in Vocal Performance from CSU East Bay (Hayward). Music Director at Good Shepherd Lutheran\, Hayward\, from 1995–2018\, he was also a member of the San Francisco Symphony Chorus for over twenty years\, and was part of two Grammy Award-winning recordings: Johannes Brahms’ Requiem (1995) and Gustav Mahler’s Symphony No. 8 (2010).
URL:https://mendocinomusic.org/event/the-festival-chorale-christmas-through-the-ages/
LOCATION:Mendocino Presbyterian Church Sanctuary\, 44831 Main Street\, Mendocino\, CA\, 95460\, United States
CATEGORIES:Classical,Performance
ATTACH;FMTTYPE=image/jpeg:https://mendocinomusic.org/wp-content/uploads/2023/10/Lytras_Nikiforos_Carols.jpeg
ORGANIZER;CN="Mendocino Music Festival":MAILTO:info@mendocinomusic.org
GEO:39.30529;-123.7972762
X-APPLE-STRUCTURED-LOCATION;VALUE=URI;X-ADDRESS=Mendocino Presbyterian Church Sanctuary 44831 Main Street Mendocino CA 95460 United States;X-APPLE-RADIUS=500;X-TITLE=44831 Main Street:geo:-123.7972762,39.30529
END:VEVENT
END:VCALENDAR