BEGIN:VCALENDAR
VERSION:2.0
PRODID:-//Mendocino Music Festival - ECPv6.15.20//NONSGML v1.0//EN
CALSCALE:GREGORIAN
METHOD:PUBLISH
X-ORIGINAL-URL:https://mendocinomusic.org
X-WR-CALDESC:Events for Mendocino Music Festival
REFRESH-INTERVAL;VALUE=DURATION:PT1H
X-Robots-Tag:noindex
X-PUBLISHED-TTL:PT1H
BEGIN:VTIMEZONE
TZID:America/Los_Angeles
BEGIN:DAYLIGHT
TZOFFSETFROM:-0800
TZOFFSETTO:-0700
TZNAME:PDT
DTSTART:20230312T100000
END:DAYLIGHT
BEGIN:STANDARD
TZOFFSETFROM:-0700
TZOFFSETTO:-0800
TZNAME:PST
DTSTART:20231105T090000
END:STANDARD
BEGIN:DAYLIGHT
TZOFFSETFROM:-0800
TZOFFSETTO:-0700
TZNAME:PDT
DTSTART:20240310T100000
END:DAYLIGHT
BEGIN:STANDARD
TZOFFSETFROM:-0700
TZOFFSETTO:-0800
TZNAME:PST
DTSTART:20241103T090000
END:STANDARD
BEGIN:DAYLIGHT
TZOFFSETFROM:-0800
TZOFFSETTO:-0700
TZNAME:PDT
DTSTART:20250309T100000
END:DAYLIGHT
BEGIN:STANDARD
TZOFFSETFROM:-0700
TZOFFSETTO:-0800
TZNAME:PST
DTSTART:20251102T090000
END:STANDARD
END:VTIMEZONE
BEGIN:VEVENT
DTSTART;TZID=America/Los_Angeles:20240504T150000
DTEND;TZID=America/Los_Angeles:20240504T150000
DTSTAMP:20260424T061946
CREATED:20240223T220853Z
LAST-MODIFIED:20240430T195735Z
UID:10003119-1714834800-1714834800@mendocinomusic.org
SUMMARY:The Festival Chorale: Together\, This Spring
DESCRIPTION:The Mendocino Music Festival Chorale will perform a concert celebrating Spring and togetherness. Special treats will be texts read by Susan Maeder; the beloved Biebl Ave Maria; and the Fauré Cantique de Jean Racine\, with harpist Anna Maria Mendieta. Other music includes pieces by Florence Price\, Randall Thompson\, and Ralph Vaughan Williams. \nMatthew Evans\, Director; Robin Knutson\, piano; Susan Maeder\, reader; Anna Maria Mendieta\, harp \n\n	\n		Three Madrigals by Shakespeare – Emma Lou Diemer\n“The Waking” – David Conte\nAve Maria – Franz Biebl\nQuatre Motets sur des themes grègoriénes\, Op. 10 – Maurice Duruflé\nEn Bateau – Claude Debussy (solo harp)\nCantique de Jean Racine – Gabriel Fauré\n  –  INTERMISSION  –\nThree Songs – Florence Price\nAlleluia – Randall Thompson\nDirait-on – Morten Lauridsen\n“The Coolin” – Samuel Barber\n“The Spring Time of the Year” – Ralph Vaughan Williams\n“Bright Morning Stars” – Appalachian hymn; arr. Shawn Kirchner\n		\n	\n\n\n\nFestival Chorale members are: \n\nSoprano: Claire Armstrong\, Barbara Barkovich\, Safari Dushime\, Cynthia Frank\, Robin Knutson\, Bessy Krauss\, Rachel Lahn\, Kathy O’Shea\, Laura Vague\nAlto: Cathy Boxell\, Jo Britton\, Linda Cristman\, Deborah Farmar\, Evelyn Harris\, Cathy Jordan\nTenor: Kom Dixon\, Eric Hillesland\, Pamela Hudson\, Ernest Witt\nBass: James Blanton\, Paul Friesen\, Jason Kirkman\, Randy Knutson\n\n\nSaturday\, May 4\, 2024 and Sunday\, May 5\, 2024\, at 3:00 PM.\n\nBUY TICKETS\n\n	\n		\n \nThe Mendocino Music Festival Chorale was formed in 2018 as an offshoot of the much larger Festival Chorus\, whose members were invited to audition. The work has been ongoing\, even throughout the pandemic\, creating heart-warming and memorable concerts. If you’d like to support this excellent singing\, please consider joining the Friends of the Chorale. \nFestival Artistic Director Allan Pollack: “I’ve been touched by the dedication of the members of the Festival Chorus\, and so have wanted to create an opportunity for people who are ready to take their choral singing to the next level.” \nJoin Friends of the Chorale
URL:https://mendocinomusic.org/event/festival-chorale-together-this-spring/2024-05-04/
LOCATION:Mendocino Presbyterian Church Sanctuary\, 44831 Main Street\, Mendocino\, CA\, 95460\, United States
CATEGORIES:Classical,Performance
ATTACH;FMTTYPE=image/jpeg:https://mendocinomusic.org/wp-content/uploads/2024/02/GettyImages-132702365-1600web.jpg
ORGANIZER;CN="Mendocino Music Festival":MAILTO:info@mendocinomusic.org
GEO:39.30529;-123.7972762
X-APPLE-STRUCTURED-LOCATION;VALUE=URI;X-ADDRESS=Mendocino Presbyterian Church Sanctuary 44831 Main Street Mendocino CA 95460 United States;X-APPLE-RADIUS=500;X-TITLE=44831 Main Street:geo:-123.7972762,39.30529
END:VEVENT
BEGIN:VEVENT
DTSTART;TZID=America/Los_Angeles:20240505T150000
DTEND;TZID=America/Los_Angeles:20240505T150000
DTSTAMP:20260424T061946
CREATED:20240223T220853Z
LAST-MODIFIED:20240430T195735Z
UID:10003120-1714921200-1714921200@mendocinomusic.org
SUMMARY:The Festival Chorale: Together\, This Spring
DESCRIPTION:The Mendocino Music Festival Chorale will perform a concert celebrating Spring and togetherness. Special treats will be texts read by Susan Maeder; the beloved Biebl Ave Maria; and the Fauré Cantique de Jean Racine\, with harpist Anna Maria Mendieta. Other music includes pieces by Florence Price\, Randall Thompson\, and Ralph Vaughan Williams. \nMatthew Evans\, Director; Robin Knutson\, piano; Susan Maeder\, reader; Anna Maria Mendieta\, harp \n\n	\n		Three Madrigals by Shakespeare – Emma Lou Diemer\n“The Waking” – David Conte\nAve Maria – Franz Biebl\nQuatre Motets sur des themes grègoriénes\, Op. 10 – Maurice Duruflé\nEn Bateau – Claude Debussy (solo harp)\nCantique de Jean Racine – Gabriel Fauré\n  –  INTERMISSION  –\nThree Songs – Florence Price\nAlleluia – Randall Thompson\nDirait-on – Morten Lauridsen\n“The Coolin” – Samuel Barber\n“The Spring Time of the Year” – Ralph Vaughan Williams\n“Bright Morning Stars” – Appalachian hymn; arr. Shawn Kirchner\n		\n	\n\n\n\nFestival Chorale members are: \n\nSoprano: Claire Armstrong\, Barbara Barkovich\, Safari Dushime\, Cynthia Frank\, Robin Knutson\, Bessy Krauss\, Rachel Lahn\, Kathy O’Shea\, Laura Vague\nAlto: Cathy Boxell\, Jo Britton\, Linda Cristman\, Deborah Farmar\, Evelyn Harris\, Cathy Jordan\nTenor: Kom Dixon\, Eric Hillesland\, Pamela Hudson\, Ernest Witt\nBass: James Blanton\, Paul Friesen\, Jason Kirkman\, Randy Knutson\n\n\nSaturday\, May 4\, 2024 and Sunday\, May 5\, 2024\, at 3:00 PM.\n\nBUY TICKETS\n\n	\n		\n \nThe Mendocino Music Festival Chorale was formed in 2018 as an offshoot of the much larger Festival Chorus\, whose members were invited to audition. The work has been ongoing\, even throughout the pandemic\, creating heart-warming and memorable concerts. If you’d like to support this excellent singing\, please consider joining the Friends of the Chorale. \nFestival Artistic Director Allan Pollack: “I’ve been touched by the dedication of the members of the Festival Chorus\, and so have wanted to create an opportunity for people who are ready to take their choral singing to the next level.” \nJoin Friends of the Chorale
URL:https://mendocinomusic.org/event/festival-chorale-together-this-spring/2024-05-05/
LOCATION:Mendocino Presbyterian Church Sanctuary\, 44831 Main Street\, Mendocino\, CA\, 95460\, United States
CATEGORIES:Classical,Performance
ATTACH;FMTTYPE=image/jpeg:https://mendocinomusic.org/wp-content/uploads/2024/02/GettyImages-132702365-1600web.jpg
ORGANIZER;CN="Mendocino Music Festival":MAILTO:info@mendocinomusic.org
GEO:39.30529;-123.7972762
X-APPLE-STRUCTURED-LOCATION;VALUE=URI;X-ADDRESS=Mendocino Presbyterian Church Sanctuary 44831 Main Street Mendocino CA 95460 United States;X-APPLE-RADIUS=500;X-TITLE=44831 Main Street:geo:-123.7972762,39.30529
END:VEVENT
END:VCALENDAR