BEGIN:VCALENDAR
VERSION:2.0
PRODID:-//Mendocino Music Festival - ECPv6.15.20//NONSGML v1.0//EN
CALSCALE:GREGORIAN
METHOD:PUBLISH
X-WR-CALNAME:Mendocino Music Festival
X-ORIGINAL-URL:https://mendocinomusic.org
X-WR-CALDESC:Events for Mendocino Music Festival
REFRESH-INTERVAL;VALUE=DURATION:PT1H
X-Robots-Tag:noindex
X-PUBLISHED-TTL:PT1H
BEGIN:VTIMEZONE
TZID:America/Los_Angeles
BEGIN:DAYLIGHT
TZOFFSETFROM:-0800
TZOFFSETTO:-0700
TZNAME:PDT
DTSTART:20230312T100000
END:DAYLIGHT
BEGIN:STANDARD
TZOFFSETFROM:-0700
TZOFFSETTO:-0800
TZNAME:PST
DTSTART:20231105T090000
END:STANDARD
BEGIN:DAYLIGHT
TZOFFSETFROM:-0800
TZOFFSETTO:-0700
TZNAME:PDT
DTSTART:20240310T100000
END:DAYLIGHT
BEGIN:STANDARD
TZOFFSETFROM:-0700
TZOFFSETTO:-0800
TZNAME:PST
DTSTART:20241103T090000
END:STANDARD
BEGIN:DAYLIGHT
TZOFFSETFROM:-0800
TZOFFSETTO:-0700
TZNAME:PDT
DTSTART:20250309T100000
END:DAYLIGHT
BEGIN:STANDARD
TZOFFSETFROM:-0700
TZOFFSETTO:-0800
TZNAME:PST
DTSTART:20251102T090000
END:STANDARD
END:VTIMEZONE
BEGIN:VEVENT
DTSTART;TZID=America/Los_Angeles:20240604T100000
DTEND;TZID=America/Los_Angeles:20240604T113000
DTSTAMP:20260424T045754
CREATED:20240520T000715Z
LAST-MODIFIED:20240520T003753Z
UID:10003170-1717495200-1717500600@mendocinomusic.org
SUMMARY:Masterclass (6 times\, 6/4–7/9)
DESCRIPTION:Come join a small group of seasoned singers who want to hone their skills and become better at their craft. If you sing in a local chorus\, at church\, at events\, or even privately\, this class will help you find better vocal technique and artistry\, and will help you refine your voice and performance skills. This class is best for singers who have taken our Basics of Singing course or who have had some private training. We’ll explore all genres\, from Opera to Art Song to Musical Theater and more. Music will be assigned based on your skill level. Accompaniments will be sent for you to work on your songs in class. This is a wonderful opportunity to learn new repertoire or sing in different genres. \n\nInstructors: Jenny Matteucci and Daniel Lockert.\nTuesdays\, 10:00-11:30 AM Pacific\, June 4–July 9\nIn person only; no virtual option. Auditors welcome.\n\nREGISTER FOR 6-WEEK COURSE\n\n	\n		\nIn 2017 Jenny Matteucci\, who has an extensive background as a performer\, choral director\, and voice teacher\, became the Festival Chorus Master; joined by her husband\, Daniel Lockert\, a marvelous accompanist and an outstanding language coach. The artistic leadership of this dynamic duo is a wonderful addition to the Festival\, and has made possible an ongoing series of courses in various aspects of singing.
URL:https://mendocinomusic.org/event/masterclass-6-times-6-4-7-9/2024-06-04/
LOCATION:Preston Hall\, 44867 Main Street\, Mendocino\, CA\, 95460\, United States
CATEGORIES:Course,Education
ATTACH;FMTTYPE=image/jpeg:https://mendocinomusic.org/wp-content/uploads/2020/05/Matteucci-Lockert-20953715_1926915704214027_3746063384276890962_n-700web.jpg
ORGANIZER;CN="Mendocino Music Festival":MAILTO:info@mendocinomusic.org
GEO:39.30529;-123.7972762
X-APPLE-STRUCTURED-LOCATION;VALUE=URI;X-ADDRESS=Preston Hall 44867 Main Street Mendocino CA 95460 United States;X-APPLE-RADIUS=500;X-TITLE=44867 Main Street:geo:-123.7972762,39.30529
END:VEVENT
BEGIN:VEVENT
DTSTART;TZID=America/Los_Angeles:20240611T100000
DTEND;TZID=America/Los_Angeles:20240611T113000
DTSTAMP:20260424T045754
CREATED:20240520T000715Z
LAST-MODIFIED:20240520T003753Z
UID:10003177-1718100000-1718105400@mendocinomusic.org
SUMMARY:Masterclass (6 times\, 6/4–7/9)
DESCRIPTION:Come join a small group of seasoned singers who want to hone their skills and become better at their craft. If you sing in a local chorus\, at church\, at events\, or even privately\, this class will help you find better vocal technique and artistry\, and will help you refine your voice and performance skills. This class is best for singers who have taken our Basics of Singing course or who have had some private training. We’ll explore all genres\, from Opera to Art Song to Musical Theater and more. Music will be assigned based on your skill level. Accompaniments will be sent for you to work on your songs in class. This is a wonderful opportunity to learn new repertoire or sing in different genres. \n\nInstructors: Jenny Matteucci and Daniel Lockert.\nTuesdays\, 10:00-11:30 AM Pacific\, June 4–July 9\nIn person only; no virtual option. Auditors welcome.\n\nREGISTER FOR 6-WEEK COURSE\n\n	\n		\nIn 2017 Jenny Matteucci\, who has an extensive background as a performer\, choral director\, and voice teacher\, became the Festival Chorus Master; joined by her husband\, Daniel Lockert\, a marvelous accompanist and an outstanding language coach. The artistic leadership of this dynamic duo is a wonderful addition to the Festival\, and has made possible an ongoing series of courses in various aspects of singing.
URL:https://mendocinomusic.org/event/masterclass-6-times-6-4-7-9/2024-06-11/
LOCATION:Preston Hall\, 44867 Main Street\, Mendocino\, CA\, 95460\, United States
CATEGORIES:Course,Education
ATTACH;FMTTYPE=image/jpeg:https://mendocinomusic.org/wp-content/uploads/2020/05/Matteucci-Lockert-20953715_1926915704214027_3746063384276890962_n-700web.jpg
ORGANIZER;CN="Mendocino Music Festival":MAILTO:info@mendocinomusic.org
GEO:39.30529;-123.7972762
X-APPLE-STRUCTURED-LOCATION;VALUE=URI;X-ADDRESS=Preston Hall 44867 Main Street Mendocino CA 95460 United States;X-APPLE-RADIUS=500;X-TITLE=44867 Main Street:geo:-123.7972762,39.30529
END:VEVENT
BEGIN:VEVENT
DTSTART;TZID=America/Los_Angeles:20240618T100000
DTEND;TZID=America/Los_Angeles:20240618T113000
DTSTAMP:20260424T045754
CREATED:20240520T000715Z
LAST-MODIFIED:20240520T003753Z
UID:10003178-1718704800-1718710200@mendocinomusic.org
SUMMARY:Masterclass (6 times\, 6/4–7/9)
DESCRIPTION:Come join a small group of seasoned singers who want to hone their skills and become better at their craft. If you sing in a local chorus\, at church\, at events\, or even privately\, this class will help you find better vocal technique and artistry\, and will help you refine your voice and performance skills. This class is best for singers who have taken our Basics of Singing course or who have had some private training. We’ll explore all genres\, from Opera to Art Song to Musical Theater and more. Music will be assigned based on your skill level. Accompaniments will be sent for you to work on your songs in class. This is a wonderful opportunity to learn new repertoire or sing in different genres. \n\nInstructors: Jenny Matteucci and Daniel Lockert.\nTuesdays\, 10:00-11:30 AM Pacific\, June 4–July 9\nIn person only; no virtual option. Auditors welcome.\n\nREGISTER FOR 6-WEEK COURSE\n\n	\n		\nIn 2017 Jenny Matteucci\, who has an extensive background as a performer\, choral director\, and voice teacher\, became the Festival Chorus Master; joined by her husband\, Daniel Lockert\, a marvelous accompanist and an outstanding language coach. The artistic leadership of this dynamic duo is a wonderful addition to the Festival\, and has made possible an ongoing series of courses in various aspects of singing.
URL:https://mendocinomusic.org/event/masterclass-6-times-6-4-7-9/2024-06-18/
LOCATION:Preston Hall\, 44867 Main Street\, Mendocino\, CA\, 95460\, United States
CATEGORIES:Course,Education
ATTACH;FMTTYPE=image/jpeg:https://mendocinomusic.org/wp-content/uploads/2020/05/Matteucci-Lockert-20953715_1926915704214027_3746063384276890962_n-700web.jpg
ORGANIZER;CN="Mendocino Music Festival":MAILTO:info@mendocinomusic.org
GEO:39.30529;-123.7972762
X-APPLE-STRUCTURED-LOCATION;VALUE=URI;X-ADDRESS=Preston Hall 44867 Main Street Mendocino CA 95460 United States;X-APPLE-RADIUS=500;X-TITLE=44867 Main Street:geo:-123.7972762,39.30529
END:VEVENT
BEGIN:VEVENT
DTSTART;TZID=America/Los_Angeles:20240625T100000
DTEND;TZID=America/Los_Angeles:20240625T113000
DTSTAMP:20260424T045754
CREATED:20240520T000715Z
LAST-MODIFIED:20240520T003753Z
UID:10003179-1719309600-1719315000@mendocinomusic.org
SUMMARY:Masterclass (6 times\, 6/4–7/9)
DESCRIPTION:Come join a small group of seasoned singers who want to hone their skills and become better at their craft. If you sing in a local chorus\, at church\, at events\, or even privately\, this class will help you find better vocal technique and artistry\, and will help you refine your voice and performance skills. This class is best for singers who have taken our Basics of Singing course or who have had some private training. We’ll explore all genres\, from Opera to Art Song to Musical Theater and more. Music will be assigned based on your skill level. Accompaniments will be sent for you to work on your songs in class. This is a wonderful opportunity to learn new repertoire or sing in different genres. \n\nInstructors: Jenny Matteucci and Daniel Lockert.\nTuesdays\, 10:00-11:30 AM Pacific\, June 4–July 9\nIn person only; no virtual option. Auditors welcome.\n\nREGISTER FOR 6-WEEK COURSE\n\n	\n		\nIn 2017 Jenny Matteucci\, who has an extensive background as a performer\, choral director\, and voice teacher\, became the Festival Chorus Master; joined by her husband\, Daniel Lockert\, a marvelous accompanist and an outstanding language coach. The artistic leadership of this dynamic duo is a wonderful addition to the Festival\, and has made possible an ongoing series of courses in various aspects of singing.
URL:https://mendocinomusic.org/event/masterclass-6-times-6-4-7-9/2024-06-25/
LOCATION:Preston Hall\, 44867 Main Street\, Mendocino\, CA\, 95460\, United States
CATEGORIES:Course,Education
ATTACH;FMTTYPE=image/jpeg:https://mendocinomusic.org/wp-content/uploads/2020/05/Matteucci-Lockert-20953715_1926915704214027_3746063384276890962_n-700web.jpg
ORGANIZER;CN="Mendocino Music Festival":MAILTO:info@mendocinomusic.org
GEO:39.30529;-123.7972762
X-APPLE-STRUCTURED-LOCATION;VALUE=URI;X-ADDRESS=Preston Hall 44867 Main Street Mendocino CA 95460 United States;X-APPLE-RADIUS=500;X-TITLE=44867 Main Street:geo:-123.7972762,39.30529
END:VEVENT
END:VCALENDAR