BEGIN:VCALENDAR
VERSION:2.0
PRODID:-//Mendocino Music Festival - ECPv6.15.20//NONSGML v1.0//EN
CALSCALE:GREGORIAN
METHOD:PUBLISH
X-ORIGINAL-URL:https://mendocinomusic.org
X-WR-CALDESC:Events for Mendocino Music Festival
REFRESH-INTERVAL;VALUE=DURATION:PT1H
X-Robots-Tag:noindex
X-PUBLISHED-TTL:PT1H
BEGIN:VTIMEZONE
TZID:America/Los_Angeles
BEGIN:DAYLIGHT
TZOFFSETFROM:-0800
TZOFFSETTO:-0700
TZNAME:PDT
DTSTART:20240310T100000
END:DAYLIGHT
BEGIN:STANDARD
TZOFFSETFROM:-0700
TZOFFSETTO:-0800
TZNAME:PST
DTSTART:20241103T090000
END:STANDARD
BEGIN:DAYLIGHT
TZOFFSETFROM:-0800
TZOFFSETTO:-0700
TZNAME:PDT
DTSTART:20250309T100000
END:DAYLIGHT
BEGIN:STANDARD
TZOFFSETFROM:-0700
TZOFFSETTO:-0800
TZNAME:PST
DTSTART:20251102T090000
END:STANDARD
BEGIN:DAYLIGHT
TZOFFSETFROM:-0800
TZOFFSETTO:-0700
TZNAME:PDT
DTSTART:20260308T100000
END:DAYLIGHT
BEGIN:STANDARD
TZOFFSETFROM:-0700
TZOFFSETTO:-0800
TZNAME:PST
DTSTART:20261101T090000
END:STANDARD
END:VTIMEZONE
BEGIN:VEVENT
DTSTART;TZID=America/Los_Angeles:20250706T143000
DTEND;TZID=America/Los_Angeles:20250706T143000
DTSTAMP:20260424T191740
CREATED:20250405T234139Z
LAST-MODIFIED:20250421T205900Z
UID:10007810-1751812200-1751812200@mendocinomusic.org
SUMMARY:Susan Waterfall presents: Why We Love Igor
DESCRIPTION:Susan Waterfall’s biographical film on Igor Stravinsky provides an ideal prologue to the Festival’s programming this year. Experience the fascinating life of the greatest composer of the 20th century\, including excerpts from 25 of his works\, along with compelling images and photographs. \nA Q&A will follow the screening. \nWritten and directed by Susan Waterfall.\nArt and photograph collection by Mina Cohen.\nFilmed and edited by Julian Pollack. \nGET TICKETS\n\n\n	\n		\n2025 Featured Composer: Igor Stravinsky\n \nFor 2025\, Susan Waterfall’s composer series will feature the innovative and influential Igor Stravinsky. Immerse yourself in his world and his music\, and understand how his music evolved over his lifetime with narrated chamber recitals featuring exciting guest artists\, and various other settings of Stravinsky’s work across the Festival. \nWaterfall’s productions always present exciting\, absorbing playing of great music\, but are also rare\, distinctive examples of what can be called music education\, though they’re more conversational\, truly a sharing of perspective\, interest\, anecdote. There’s a sense of immediacy to her delivery\, weaving in and out of the playing\, an intimately conceived present awareness of this heritage. It’s something unique that needs to be experienced.” -Ken Bullock\, Berkeley Daily Planet\n \nExplore the Series  \n\n		\n	\n\n\n\n\n	\n		\nThe Festival will celebrate Igor Stravinsky with a film and 17 works spread across eight different concerts. On Sunday\, July 6th\, Susan Waterfall’s film\, “Why We Love Igor\,” will provide an overview of the life and work of the 20th century’s greatest composer. The Russian-born composer revolutionized music with his ballets and experiments with rhythm and dissonance. Two concerts (one of which will be performed twice) will be devoted entirely to works by Stravinsky. Chamber Masterpieces will be played in the tent; Stravinsky at Home\, in Preston Hall\, will feature intimate and varied music by the composer\, dedicated to his wives\, children\, and close friends. Stravinsky’s varied compositions will be heard in other orchestra concerts and in Preston Hall performances.
URL:https://mendocinomusic.org/event/susan-waterfall-why-we-love-igor/
LOCATION:Preston Hall\, 44867 Main Street\, Mendocino\, CA\, 95460\, United States
CATEGORIES:Education,Performance
ATTACH;FMTTYPE=image/jpeg:https://mendocinomusic.org/wp-content/uploads/stravinsky-by-blanche-18575-sqcrop-700web.jpg
ORGANIZER;CN="Mendocino Music Festival":MAILTO:info@mendocinomusic.org
GEO:39.30529;-123.7972762
X-APPLE-STRUCTURED-LOCATION;VALUE=URI;X-ADDRESS=Preston Hall 44867 Main Street Mendocino CA 95460 United States;X-APPLE-RADIUS=500;X-TITLE=44867 Main Street:geo:-123.7972762,39.30529
END:VEVENT
BEGIN:VEVENT
DTSTART;TZID=America/Los_Angeles:20250722T143000
DTEND;TZID=America/Los_Angeles:20250722T143000
DTSTAMP:20260424T191740
CREATED:20250329T223402Z
LAST-MODIFIED:20250720T223709Z
UID:10007434-1753194600-1753194600@mendocinomusic.org
SUMMARY:Stravinsky at Home: Music for Family\, Friends\, Lovers
DESCRIPTION:The musicians will reveal surprising new sides to Stravinsky through the years in these intimate concerts. Alexander Katsman will accompany mezzo-soprano Silvie Jensen in Le Faune\, a songs composed by Stravinsky during his honeymoon. Jensen will be joined a bit later by Alexander on “Cradle Songs for a Cat.” Susan and Julian Waterfall Pollack will play “Eight Easy Pieces” on one piano. Eric Kritz will take a turn on “Three Solo Pieces for Clarinet\,” deeply moving and soulful Russian music. Following a brief intermission\, Carolyn Steinbuck and Sam Weiser will play excerpts from Duo Concertante\, Stravinsky’s important work for piano and violin. Sarah Cahill and Elizabeth Dorman will team up on Concerto for Two Pianos\, considered one of Stravinsky’s major compositions for the instruments. Jensen and Katsman will return for “The Owl and the Pussycat\,” Stravinsky’s final completed composition\, which he based on a poem by Edward Lear. \n\n			\n				\n					\n						\n						Ben Albertson\, harp\n					\n					\n						\n						Johanna Borenstein\, flute\n					\n					\n						\n						Silvie Jensen\, mezzo-soprano\n					\n					\n						\n						Eric Kritz\, clarinet\n					\n					\n						\n						Sam Weiser\, violin\n					\n					\n						\n						Matthew Wherley\, guitar\n					\n				\n				\n					\n						\n						Sarah Cahill\, piano\n					\n					\n						\n						Elizabeth Dorman\, piano\n					\n					\n						\n						Alexander Katsman\, piano\n					\n					\n						\n						Julian Pollack\, piano\n					\n					\n						\n						Carolyn Steinbuck\, piano\n					\n					\n						\n						Susan Waterfall\, piano\n					\n				\n			\n\n\n\n	\n		\n2025 Featured Composer: Igor Stravinsky\n \nFor 2025\, Susan Waterfall’s composer series will feature the innovative and influential Igor Stravinsky. Immerse yourself in his world and his music\, and understand how his music evolved over his lifetime with narrated chamber recitals featuring exciting guest artists\, and various other settings of Stravinsky’s work across the Festival. \nWaterfall’s productions always present exciting\, absorbing playing of great music\, but are also rare\, distinctive examples of what can be called music education\, though they’re more conversational\, truly a sharing of perspective\, interest\, anecdote. There’s a sense of immediacy to her delivery\, weaving in and out of the playing\, an intimately conceived present awareness of this heritage. It’s something unique that needs to be experienced.” -Ken Bullock\, Berkeley Daily Planet\n \nExplore the Series  \n\n		\n	\n\n\n\n\n\n	\n		Public ticket sales begin May 6\, 2026\, at noon Pacific. Want early access to tickets\, before public sales open? Click here to find out how.\n		\n	\n\n\n\nCHOOSE SEATS AND BUY
URL:https://mendocinomusic.org/event/stravinsky-at-home/2025-07-22/
LOCATION:Preston Hall\, 44867 Main Street\, Mendocino\, CA\, 95460\, United States
CATEGORIES:Chamber Music,Classical,Performance
ATTACH;FMTTYPE=image/jpeg:https://mendocinomusic.org/wp-content/uploads/6web.jpg
ORGANIZER;CN="Mendocino Music Festival":MAILTO:info@mendocinomusic.org
GEO:39.30529;-123.7972762
X-APPLE-STRUCTURED-LOCATION;VALUE=URI;X-ADDRESS=Preston Hall 44867 Main Street Mendocino CA 95460 United States;X-APPLE-RADIUS=500;X-TITLE=44867 Main Street:geo:-123.7972762,39.30529
END:VEVENT
BEGIN:VEVENT
DTSTART;TZID=America/Los_Angeles:20250723T143000
DTEND;TZID=America/Los_Angeles:20250723T143000
DTSTAMP:20260424T191740
CREATED:20250329T223402Z
LAST-MODIFIED:20250720T223709Z
UID:10007443-1753281000-1753281000@mendocinomusic.org
SUMMARY:Stravinsky at Home: Music for Family\, Friends\, Lovers
DESCRIPTION:The musicians will reveal surprising new sides to Stravinsky through the years in these intimate concerts. Alexander Katsman will accompany mezzo-soprano Silvie Jensen in Le Faune\, a songs composed by Stravinsky during his honeymoon. Jensen will be joined a bit later by Alexander on “Cradle Songs for a Cat.” Susan and Julian Waterfall Pollack will play “Eight Easy Pieces” on one piano. Eric Kritz will take a turn on “Three Solo Pieces for Clarinet\,” deeply moving and soulful Russian music. Following a brief intermission\, Carolyn Steinbuck and Sam Weiser will play excerpts from Duo Concertante\, Stravinsky’s important work for piano and violin. Sarah Cahill and Elizabeth Dorman will team up on Concerto for Two Pianos\, considered one of Stravinsky’s major compositions for the instruments. Jensen and Katsman will return for “The Owl and the Pussycat\,” Stravinsky’s final completed composition\, which he based on a poem by Edward Lear. \n\n			\n				\n					\n						\n						Ben Albertson\, harp\n					\n					\n						\n						Johanna Borenstein\, flute\n					\n					\n						\n						Silvie Jensen\, mezzo-soprano\n					\n					\n						\n						Eric Kritz\, clarinet\n					\n					\n						\n						Sam Weiser\, violin\n					\n					\n						\n						Matthew Wherley\, guitar\n					\n				\n				\n					\n						\n						Sarah Cahill\, piano\n					\n					\n						\n						Elizabeth Dorman\, piano\n					\n					\n						\n						Alexander Katsman\, piano\n					\n					\n						\n						Julian Pollack\, piano\n					\n					\n						\n						Carolyn Steinbuck\, piano\n					\n					\n						\n						Susan Waterfall\, piano\n					\n				\n			\n\n\n\n	\n		\n2025 Featured Composer: Igor Stravinsky\n \nFor 2025\, Susan Waterfall’s composer series will feature the innovative and influential Igor Stravinsky. Immerse yourself in his world and his music\, and understand how his music evolved over his lifetime with narrated chamber recitals featuring exciting guest artists\, and various other settings of Stravinsky’s work across the Festival. \nWaterfall’s productions always present exciting\, absorbing playing of great music\, but are also rare\, distinctive examples of what can be called music education\, though they’re more conversational\, truly a sharing of perspective\, interest\, anecdote. There’s a sense of immediacy to her delivery\, weaving in and out of the playing\, an intimately conceived present awareness of this heritage. It’s something unique that needs to be experienced.” -Ken Bullock\, Berkeley Daily Planet\n \nExplore the Series  \n\n		\n	\n\n\n\n\n\n	\n		Public ticket sales begin May 6\, 2026\, at noon Pacific. Want early access to tickets\, before public sales open? Click here to find out how.\n		\n	\n\n\n\nCHOOSE SEATS AND BUY
URL:https://mendocinomusic.org/event/stravinsky-at-home/2025-07-23/
LOCATION:Preston Hall\, 44867 Main Street\, Mendocino\, CA\, 95460\, United States
CATEGORIES:Chamber Music,Classical,Performance
ATTACH;FMTTYPE=image/jpeg:https://mendocinomusic.org/wp-content/uploads/6web.jpg
ORGANIZER;CN="Mendocino Music Festival":MAILTO:info@mendocinomusic.org
GEO:39.30529;-123.7972762
X-APPLE-STRUCTURED-LOCATION;VALUE=URI;X-ADDRESS=Preston Hall 44867 Main Street Mendocino CA 95460 United States;X-APPLE-RADIUS=500;X-TITLE=44867 Main Street:geo:-123.7972762,39.30529
END:VEVENT
END:VCALENDAR