BEGIN:VCALENDAR
VERSION:2.0
PRODID:-//Mendocino Music Festival - ECPv6.15.20//NONSGML v1.0//EN
CALSCALE:GREGORIAN
METHOD:PUBLISH
X-ORIGINAL-URL:https://mendocinomusic.org
X-WR-CALDESC:Events for Mendocino Music Festival
REFRESH-INTERVAL;VALUE=DURATION:PT1H
X-Robots-Tag:noindex
X-PUBLISHED-TTL:PT1H
BEGIN:VTIMEZONE
TZID:America/Los_Angeles
BEGIN:DAYLIGHT
TZOFFSETFROM:-0800
TZOFFSETTO:-0700
TZNAME:PDT
DTSTART:20170312T100000
END:DAYLIGHT
BEGIN:STANDARD
TZOFFSETFROM:-0700
TZOFFSETTO:-0800
TZNAME:PST
DTSTART:20171105T090000
END:STANDARD
BEGIN:DAYLIGHT
TZOFFSETFROM:-0800
TZOFFSETTO:-0700
TZNAME:PDT
DTSTART:20180311T100000
END:DAYLIGHT
BEGIN:STANDARD
TZOFFSETFROM:-0700
TZOFFSETTO:-0800
TZNAME:PST
DTSTART:20181104T090000
END:STANDARD
BEGIN:DAYLIGHT
TZOFFSETFROM:-0800
TZOFFSETTO:-0700
TZNAME:PDT
DTSTART:20190310T100000
END:DAYLIGHT
BEGIN:STANDARD
TZOFFSETFROM:-0700
TZOFFSETTO:-0800
TZNAME:PST
DTSTART:20191103T090000
END:STANDARD
END:VTIMEZONE
BEGIN:VEVENT
DTSTART;TZID=America/Los_Angeles:20180710T193000
DTEND;TZID=America/Los_Angeles:20180710T193000
DTSTAMP:20260424T131155
CREATED:20180621T075103Z
LAST-MODIFIED:20180621T172442Z
UID:10002467-1531251000-1531251000@mendocinomusic.org
SUMMARY:The King: Special Benefit Screening
DESCRIPTION:Mendocino Area Parks Association & Mendocino Film Festival present a screening of THE KING. \nForty years after the death of Elvis Presley\, two-time Sundance Grand Jury winner Eugene Jarecki’s new film takes the King’s 1963 Rolls-Royce on a musical road trip across America. From Memphis to New York\, Las Vegas\, and beyond\, the journey traces the rise and fall of Elvis as a metaphor for the country he left behind. In this groundbreaking film\, Jarecki paints a visionary portrait of the state of the American dream and a penetrating look at how the hell we got here. \nA diverse cast of Americans\, both famous and not\, join the journey\, including Alec Baldwin\, Rosanne Cash\, Chuck D\, Emmylou Harris\, Ethan Hawke\, Van Jones\, Mike Myers\, and Dan Rather\, among many others. \nView the trailer HERE. \nAll proceeds go to the Mendocino Area Parks Association\, with support from the Mendocino Film Festival. \n* Film is R Rated for Language some disturbing images and brief drug use. Under 17 requires accompanying parent or guardian.\nBuy Tickets
URL:https://mendocinomusic.org/event/the-king/
LOCATION:Tent Concert Hall\, 45035 Main Street\, Mendocino\, CA\, 95460\, United States
CATEGORIES:Benefit Events,Boogie-Blues-Bluegrass,Performance
ATTACH;FMTTYPE=image/png:https://mendocinomusic.org/wp-content/uploads/2018/06/MMF-AD-FINAL.png
GEO:39.3076744;-123.7994591
X-APPLE-STRUCTURED-LOCATION;VALUE=URI;X-ADDRESS=Tent Concert Hall 45035 Main Street Mendocino CA 95460 United States;X-APPLE-RADIUS=500;X-TITLE=45035 Main Street:geo:-123.7994591,39.3076744
END:VEVENT
END:VCALENDAR