BEGIN:VCALENDAR
VERSION:2.0
PRODID:-//Mendocino Music Festival - ECPv6.15.20//NONSGML v1.0//EN
CALSCALE:GREGORIAN
METHOD:PUBLISH
X-WR-CALNAME:Mendocino Music Festival
X-ORIGINAL-URL:https://mendocinomusic.org
X-WR-CALDESC:Events for Mendocino Music Festival
REFRESH-INTERVAL;VALUE=DURATION:PT1H
X-Robots-Tag:noindex
X-PUBLISHED-TTL:PT1H
BEGIN:VTIMEZONE
TZID:America/Los_Angeles
BEGIN:DAYLIGHT
TZOFFSETFROM:-0800
TZOFFSETTO:-0700
TZNAME:PDT
DTSTART:20240310T100000
END:DAYLIGHT
BEGIN:STANDARD
TZOFFSETFROM:-0700
TZOFFSETTO:-0800
TZNAME:PST
DTSTART:20241103T090000
END:STANDARD
BEGIN:DAYLIGHT
TZOFFSETFROM:-0800
TZOFFSETTO:-0700
TZNAME:PDT
DTSTART:20250309T100000
END:DAYLIGHT
BEGIN:STANDARD
TZOFFSETFROM:-0700
TZOFFSETTO:-0800
TZNAME:PST
DTSTART:20251102T090000
END:STANDARD
BEGIN:DAYLIGHT
TZOFFSETFROM:-0800
TZOFFSETTO:-0700
TZNAME:PDT
DTSTART:20260308T100000
END:DAYLIGHT
BEGIN:STANDARD
TZOFFSETFROM:-0700
TZOFFSETTO:-0800
TZNAME:PST
DTSTART:20261101T090000
END:STANDARD
END:VTIMEZONE
BEGIN:VEVENT
DTSTART;TZID=America/Los_Angeles:20250618T173000
DTEND;TZID=America/Los_Angeles:20250618T173000
DTSTAMP:20260424T071510
CREATED:20250409T214125Z
LAST-MODIFIED:20250525T230204Z
UID:10007812-1750267800-1750267800@mendocinomusic.org
SUMMARY:Opera Preview Party 2025
DESCRIPTION:Imagine yourself…\n…in a stunning seaside setting\, with a small gathering of fellow opera lovers\, grazing on delicacies both savory and sweet\, sipping fine wines and other libations\, enhanced by the ‘golden hour’ ambience of a mid-June North Coast evening… \n…meeting Artistic Director Allan Pollack and guest conductors Francesco Lecce-Chong and Ryan Murray\, and hearing Ryan\, who’ll conduct July’s Don Pasquale\, share opera insights… \n…with the sun approaching the watery horizon\, hearing Ryan accompany soprano Carrie Hennessey and tenor Sal Atti in a sampling of arias… \n\n			\n				\n					\n						\n						Carrie Hennessey\, soprano\n					\n					\n						\n						Salvatore Atti\, tenor\n					\n					\n						\n						Ryan Murray\n					\n					\n						\n						Francesco Lecce-Chong\n					\n					\n						\n						Allan Pollack\, Artistic Director\n					\n				\n			\n\n\nReserve Now – Opera Preview Party \n\nHosted by Shariq Yosufzai and Brian James in their stunning ocean-view Mendocino home. Location and other specifics will be provided upon reservation. \nOpera Preview Party 2025 MenuOpera Preview Party 2025\nSavory:\nFresh Oyster Bar — with Champagne Vinegar Mignonette\nBresaola Hand Rolls — bresaola brushed with Truffle Oil and Quince Paste rolled with Manchego and Arugula\nRoundman’s Jambon Beurre Sandwich\nTomato Bruschetta\nStecchi alla Petroniani — Bolognese treat of Cheese and Mortadella on a skewer and dipped in Béchamel and Bread Crumbs and fried\nDeviled Eggs Carbonara\n \nSweet:\nBrutti ma Buoni\nPistachio Olive Oil Cake\nCroquembouche — classic French Tower of Caramel Glazed Cream Puffs\nFruit\, Cheese\, Nut Cups
URL:https://mendocinomusic.org/event/opera-preview-party-2025/
LOCATION:Brian James and Shariq Yosufzai Residence\, Mendocino\, CA\, 95460\, United States
CATEGORIES:Benefit Events,Classical,Performance
ATTACH;FMTTYPE=image/jpeg:https://mendocinomusic.org/wp-content/uploads/AgateBeach-7-1920web.jpg
ORGANIZER;CN="Mendocino Music Festival":MAILTO:info@mendocinomusic.org
END:VEVENT
END:VCALENDAR