BEGIN:VCALENDAR
VERSION:2.0
PRODID:-//Mendocino Music Festival - ECPv6.15.20//NONSGML v1.0//EN
CALSCALE:GREGORIAN
METHOD:PUBLISH
X-WR-CALNAME:Mendocino Music Festival
X-ORIGINAL-URL:https://mendocinomusic.org
X-WR-CALDESC:Events for Mendocino Music Festival
REFRESH-INTERVAL;VALUE=DURATION:PT1H
X-Robots-Tag:noindex
X-PUBLISHED-TTL:PT1H
BEGIN:VTIMEZONE
TZID:America/Los_Angeles
BEGIN:DAYLIGHT
TZOFFSETFROM:-0800
TZOFFSETTO:-0700
TZNAME:PDT
DTSTART:20250309T100000
END:DAYLIGHT
BEGIN:STANDARD
TZOFFSETFROM:-0700
TZOFFSETTO:-0800
TZNAME:PST
DTSTART:20251102T090000
END:STANDARD
BEGIN:DAYLIGHT
TZOFFSETFROM:-0800
TZOFFSETTO:-0700
TZNAME:PDT
DTSTART:20260308T100000
END:DAYLIGHT
BEGIN:STANDARD
TZOFFSETFROM:-0700
TZOFFSETTO:-0800
TZNAME:PST
DTSTART:20261101T090000
END:STANDARD
BEGIN:DAYLIGHT
TZOFFSETFROM:-0800
TZOFFSETTO:-0700
TZNAME:PDT
DTSTART:20270314T100000
END:DAYLIGHT
BEGIN:STANDARD
TZOFFSETFROM:-0700
TZOFFSETTO:-0800
TZNAME:PST
DTSTART:20271107T090000
END:STANDARD
END:VTIMEZONE
BEGIN:VEVENT
DTSTART;TZID=America/Los_Angeles:20260606T173000
DTEND;TZID=America/Los_Angeles:20260606T173000
DTSTAMP:20260424T055053
CREATED:20260418T203041Z
LAST-MODIFIED:20260420T014929Z
UID:10008187-1780767000-1780767000@mendocinomusic.org
SUMMARY:Opera Preview Party 2026
DESCRIPTION:Imagine yourself…\n…in a stunning seaside setting\, with a small gathering of fellow opera lovers\, grazing on delicacies both savory and sweet\, sipping fine wines and other libations\, enhanced by the ‘golden hour’ ambience of a mid-June North Coast evening… \n…hearing Artistic Director Allan Pollack and Guest Conductor Francisco Lecce-Chong share a few opera insights… \n…with the Pacific sunset beginning to take shape\, hearing pianist Kevin Korth accompany soprano Shawnette Sulker and baritone Eugene Brancoveanu in a sampling of arias… \n\n			\n				\n					\n						\n						Shawnette Sulker\, soprano\n					\n					\n						\n						Eugene Brancoveanu\, baritone\n					\n					\n						\n						Francesco Lecce-Chong\, Guest Conductor\n					\n					\n						\n						Allan Pollack\, Artistic Director\n					\n				\n			\n\n\nReserve Now – Opera Preview Party \n\nHosted by Shariq Yosufzai and Brian James in their stunning ocean-view Mendocino home. Location and other specifics will be provided upon reservation.
URL:https://mendocinomusic.org/event/opera-preview-party-2026/
LOCATION:Brian James and Shariq Yosufzai Residence\, Mendocino\, CA\, 95460\, United States
CATEGORIES:Benefit Events,Classical,Performance
ATTACH;FMTTYPE=image/jpeg:https://mendocinomusic.org/wp-content/uploads/AgateBeach-7-1920web.jpg
ORGANIZER;CN="Mendocino Music Festival":MAILTO:info@mendocinomusic.org
END:VEVENT
END:VCALENDAR