BEGIN:VCALENDAR
VERSION:2.0
PRODID:-//Mendocino Music Festival - ECPv6.15.20//NONSGML v1.0//EN
CALSCALE:GREGORIAN
METHOD:PUBLISH
X-ORIGINAL-URL:https://mendocinomusic.org
X-WR-CALDESC:Events for Mendocino Music Festival
REFRESH-INTERVAL;VALUE=DURATION:PT1H
X-Robots-Tag:noindex
X-PUBLISHED-TTL:PT1H
BEGIN:VTIMEZONE
TZID:America/Los_Angeles
BEGIN:DAYLIGHT
TZOFFSETFROM:-0800
TZOFFSETTO:-0700
TZNAME:PDT
DTSTART:20230312T100000
END:DAYLIGHT
BEGIN:STANDARD
TZOFFSETFROM:-0700
TZOFFSETTO:-0800
TZNAME:PST
DTSTART:20231105T090000
END:STANDARD
BEGIN:DAYLIGHT
TZOFFSETFROM:-0800
TZOFFSETTO:-0700
TZNAME:PDT
DTSTART:20240310T100000
END:DAYLIGHT
BEGIN:STANDARD
TZOFFSETFROM:-0700
TZOFFSETTO:-0800
TZNAME:PST
DTSTART:20241103T090000
END:STANDARD
BEGIN:DAYLIGHT
TZOFFSETFROM:-0800
TZOFFSETTO:-0700
TZNAME:PDT
DTSTART:20250309T100000
END:DAYLIGHT
BEGIN:STANDARD
TZOFFSETFROM:-0700
TZOFFSETTO:-0800
TZNAME:PST
DTSTART:20251102T090000
END:STANDARD
BEGIN:DAYLIGHT
TZOFFSETFROM:-0800
TZOFFSETTO:-0700
TZNAME:PDT
DTSTART:20260308T100000
END:DAYLIGHT
BEGIN:STANDARD
TZOFFSETFROM:-0700
TZOFFSETTO:-0800
TZNAME:PST
DTSTART:20261101T090000
END:STANDARD
END:VTIMEZONE
BEGIN:VEVENT
DTSTART;TZID=America/Los_Angeles:20250710T180000
DTEND;TZID=America/Los_Angeles:20250710T180000
DTSTAMP:20260424T073600
CREATED:20250409T220750Z
LAST-MODIFIED:20250630T193735Z
UID:10007813-1752170400-1752170400@mendocinomusic.org
SUMMARY:New Orleans Gala
DESCRIPTION:Enjoy a brilliant meal with friends as Fedele and Linda Bauccio (creators of Sostenuto\, the Festival’s legendary annual culinary event) bring us an evening of color and culinary exploration dedicated to New Orleans cuisine and the art of good food and fine dining. In a spacious and secluded area on the Mendocino Grove property\, party goers can mingle while enjoying exceptional wine and other libations\, accompanied by an irresistible dose of get-up-and-dance zydeco performed by CZ and the Bon Vivants. \nNote: due to limited parking\, we’ll provide continuous two-way shuttle sevice between our Tent Concert Hall location and the site of this event. Please park at the Tent Concert Hall as you would for a concert\, and be shuttl﻿ed from/to there starting at 5:30 PM. Further details will be emailed upon reservation. \n\nReserve Now – New Orleans Gala \n\n﻿New Orleans Gala 2025 MenuNew Orleans Gala 2025\nAntipasto:\nPetit muffuletta\nProsciutto\, nduja\, finocchiona salame\, giardiniera salad\, fontina \nBeef tartare\nCelery-tarragon shavings\, dijonnaise\, cyured yolk\, caper relish\nGrilled garden vegetables; coriander sesame hummus; Labneh and chives \nChef-procured cheeses and cured meats\n\nSalad station:\nGrilled green gems; shaved parmesan; olive vinaigrette; local tomatoes; artichokes\nwatermelon; grilled halloumi cheese; mint; blasamic; olive oil\npea ravioli; chanterelle mushroom; lemon butter; fava beans \n\nSeafood station:\nGrilled prawns\nAged cayenne butter\, citrus\, chives\nLes fruit de mer salad\ncalamari\, smoked mussels\, crawfish\, creole seasoning\nOysters on the shell\nmognonette; ponzu \n\nMains:\nGumbo Ya-Ya\nAndouille stuffed quail; scallions; dark roux; prawns\nGrilled broccoli rabe; garlic olive oil; citrus shine; pimento aioli\nPrime rib chateaubriand\nfresh crack pepper blend; horsradish crème; agrodolce onions\nNOLA-style porchetta\nFennel; garlic; lemon zest; jambalaya-style sausage \n\nDesserts:\nBeignets; Pecan Squares; Banana Pudding\nEspresso bar; Coffee ﻿
URL:https://mendocinomusic.org/event/new-orleans-gala/
LOCATION:Mendocino Grove\, 9601 California 1\, Mendocino\, 95460
CATEGORIES:Benefit Events,Boogie-Blues-Bluegrass,Performance
ATTACH;FMTTYPE=image/jpeg:https://mendocinomusic.org/wp-content/uploads/2016/03/CZ-and-the-Bon-Vivants-crop-web.jpg
ORGANIZER;CN="Mendocino Music Festival":MAILTO:info@mendocinomusic.org
END:VEVENT
BEGIN:VEVENT
DTSTART;TZID=America/Los_Angeles:20240711T180000
DTEND;TZID=America/Los_Angeles:20240711T180000
DTSTAMP:20260424T073600
CREATED:20240418T010200Z
LAST-MODIFIED:20250409T213945Z
UID:10003161-1720720800-1720720800@mendocinomusic.org
SUMMARY:Lobster Feed at Mendocino Grove
DESCRIPTION:Celebrate and support the Festival by enjoying a mouthwatering family-style lobster-boil dinner at the enchanting Mendocino Grove. Enjoy fine Mendocino County wines from Baxter\, Bon Pari\, Drew\, Handley\, Lichen\, Scharffenberger and Toulouse.  \nAnother hot dish being served up\, CZ and the Bon Vivants\, will provide “infectious Cajun/Zydeco dance music.”  \nGenerously sponsored by Fedele and Linda Bauccio\, creators of Sostenuto! \n\n\n\nReserve Now –  Lobster Feed at the Grove
URL:https://mendocinomusic.org/event/lobster-feed-2024/
LOCATION:Mendocino Grove\, 9601 California 1\, Mendocino\, 95460
CATEGORIES:Benefit Events,Boogie-Blues-Bluegrass,Performance
ATTACH;FMTTYPE=image/jpeg:https://mendocinomusic.org/wp-content/uploads/2024/04/Party-guests-milling-about-with-CZBVlogo-and-lobster-bowls-inset-upper-left-1600web.jpg
ORGANIZER;CN="Mendocino Music Festival":MAILTO:info@mendocinomusic.org
END:VEVENT
END:VCALENDAR